BEGIN:VCALENDAR
VERSION:2.0
PRODID:-//EFS ESOP Consultants - ECPv6.15.20//NONSGML v1.0//EN
CALSCALE:GREGORIAN
METHOD:PUBLISH
X-ORIGINAL-URL:https://execfin.com
X-WR-CALDESC:Events for EFS ESOP Consultants
REFRESH-INTERVAL;VALUE=DURATION:PT1H
X-Robots-Tag:noindex
X-PUBLISHED-TTL:PT1H
BEGIN:VTIMEZONE
TZID:UTC
BEGIN:STANDARD
TZOFFSETFROM:+0000
TZOFFSETTO:+0000
TZNAME:UTC
DTSTART:20190101T000000
END:STANDARD
END:VTIMEZONE
BEGIN:VEVENT
DTSTART;TZID=UTC:20200609T120000
DTEND;TZID=UTC:20200609T130000
DTSTAMP:20260422T160331
CREATED:20200513T174641Z
LAST-MODIFIED:20200513T174641Z
UID:332-1591704000-1591707600@execfin.com
SUMMARY:ESOPs in Ownership Transition
DESCRIPTION:Join us for our Upcoming Webinar\nYou’re Invited to join us on June 9\, 2020 for the next EFS ESOP Consultants\, LLC (EFS) Webinar \nESOPs in Ownership Transition\nTuesday\, June 9\, 2020\, Noon – 1:00 ET \nDid you know: \n\nThat a business owner can sell his or her business on a tax-free basis and continue to be active in the business after the sale?\nThat a company can receive a tax deduction for principal payments on a loan?\nThat a company can deduct the dividends that it pays on its stock?\nThat a for-profit company can operate as a tax-exempt entity?\n\nAn Employee Stock Ownership Plan (ESOP) is a popular strategy for ownership succession planning that takes advantage of the features listed above. This webinar addresses how a business owner can use an ESOP to provide him or her with liquidity and how a company can use an ESOP for tax planning purposes. After this webinar\, attendees will be able to: \n\nDiscuss ESOPs and explain how they work\nIdentify the tax advantages that an ESOP provides to a business owner and a sponsoring company\nDemonstrate how an ESOP provides competitive valuation and efficient financing\nRecognize how an ESOP aligns the interests of a business owner and the employees of a company\n\n\nClick Here to Register
URL:https://execfin.com/event/esops-in-ownership-transition/
CATEGORIES:Webinar
END:VEVENT
END:VCALENDAR